BEGIN:VCALENDAR
VERSION:2.0
PRODID:-//eventon.com NONSGML v1.0//EN
CALSCALE:GREGORIAN
METHOD:PUBLISH
BEGIN:VEVENT
UID:69eb6db1b81b9
DTSTAMP:20260424T131841Z
DTSTART:20260624T100000Z
DTEND:20260624T114500Z
LOCATION:https://teams.microsoft.com/meet/31660692409973?p=PZwVhmVnMNajuWHvfd
SUMMARY:Antrittsvorlesung
DESCRIPTION:[vc_row][vc_column][vc_custom_heading text=&#8221;Attentional C
 ontrol: More Than Just Task Specific Processes?&#8221; use_theme_fonts=&#82
 21;yes&#8221; css=&#8221;&#8221; el_class=&#8221;h2-visual&#8221;][vc_colum
 n_text css=&#8221;&#8221;]In ihrer Antrittsvorlesung gibt Prof. Dr. habil. 
 Alodie Rey-Mermet Einblicke in ihre Forschung zur Aufmerksamkeitskontrolle
 . Diese Fähigkeit – auch als kognitive Kontrolle oder exekutive Funktion
 en bekannt – ermöglicht es uns\,  laufende Gedanken und Handlungen zu ü
 berwachen und zu steuern.[..]\nhttps://vp-uni.de/events/antrittsvorlesung-r
 ey-mermet/var/event_access
URL:https://vp-uni.de/events/antrittsvorlesung-rey-mermet/var/event_access
END:VEVENT
END:VCALENDAR