BEGIN:VCALENDAR
VERSION:2.0
PRODID:-//eventon.com NONSGML v1.0//EN
CALSCALE:GREGORIAN
METHOD:PUBLISH
BEGIN:VEVENT
UID:69e5f905ece33
DTSTAMP:20260420T095933Z
DTSTART:20260420T100000Z
DTEND:20260420T114500Z
LOCATION:https://teams.microsoft.com/meet/35769480360471?p=c6NzQedgZ6dPGyYF6A
SUMMARY:Antrittsvorlesung
DESCRIPTION:[vc_row][vc_column][vc_custom_heading text=&#8221;Selbstregulat
 ion im digitalen Alltag. Soziale Medien und ihre Auswirkungen auf Wohlbefin
 den\,  Beruf und Partnerschaft&#8221; use_theme_fonts=&#8221;yes&#8221; css
 =&#8221;&#8221; el_class=&#8221;h2-visual&#8221;][vc_column_text css=&#8221
 ;&#8221;]In seiner Antrittsvorlesung gibt Prof. Dr. Phillip Ozimek Einblick
 e in seine Forschung zu den psychologischen Folgen der Nutzung sozialer Med
 ien. Im Mittelpunkt steht die Frage\,  wie Menschen ihr Verhalten im digita
 len Alltag[..]\nhttps://vp-uni.de/events/antrittsvorlesung-ozimek/var/event
 _access
URL:https://vp-uni.de/events/antrittsvorlesung-ozimek/var/event_access
END:VEVENT
END:VCALENDAR