BEGIN:VCALENDAR
VERSION:2.0
PRODID:-//eventon.com NONSGML v1.0//EN
CALSCALE:GREGORIAN
METHOD:PUBLISH
BEGIN:VEVENT
UID:69ea1b285cd34
DTSTAMP:20260423T131416Z
DTSTART:20260527T160000Z
DTEND:20260527T170000Z
LOCATION:
SUMMARY:Klinische Psychologie und Psychotherapie (Master of Science)
DESCRIPTION:[vc_row][vc_column][vc_column_text]Regelmäßig bieten wir Onli
 ne-Infoveranstaltungen an\,  gerne sind Sie eingeladen über Zoom daran tei
 lzunehmen. Hier erfahren Sie mehr über die Vinzenz Pallotti University\,  
 das Studienangebot und können sich mit Professor:innen und/oder Verwaltung
 smitarbeiter:innen austauschen.[/vc_column_text][/vc_column][/vc_row][vc_ro
 w][vc_column][vc_btn title=&#8221;Zoom-Link folgt&#8221; style=&#8221;flat&
 #8221; shape=&#8221;square&#8221; css=&#8221;&#8221; el_class=&#8221;button
 -backgground-weinrot-dunkel&#8221;][/vc_column][/vc_row]\nhttps://vp-uni.de
 /events/klinische-psychologie-und-psychotherapie-master-of-science-3/
URL:https://vp-uni.de/events/klinische-psychologie-und-psychotherapie-master-of-science-3/
END:VEVENT
END:VCALENDAR