BEGIN:VCALENDAR
VERSION:2.0
PRODID:-//eventon.com NONSGML v1.0//EN
CALSCALE:GREGORIAN
METHOD:PUBLISH
BEGIN:VEVENT
UID:69ea05569244f
DTSTAMP:20260423T114110Z
DTSTART:20260507T160000Z
DTEND:20260507T170000Z
LOCATION:
SUMMARY:Psychologie (Master of Science)
DESCRIPTION:[vc_row][vc_column][vc_column_text]Regelmäßig bieten wir Onli
 ne-Infoveranstaltungen an\,  gerne sind Sie eingeladen über Zoom daran tei
 lzunehmen. Hier erfahren Sie mehr über die Vinzenz Pallotti University\,  
 das Studienangebot und können sich mit Professor:innen und/oder Verwaltung
 smitarbeiter:innen austauschen.[/vc_column_text][/vc_column][/vc_row][vc_ro
 w][vc_column][vc_btn title=&#8221;Zoom-Link Psychologie M. Sc.&#8221; style
 =&#8221;flat&#8221; shape=&#8221;square&#8221; css=&#8221;&#8221; el_class=
 &#8221;button-backgground-weinrot-dunkel&#8221; link=&#8221;url:https%3A%2F
 %2Fus06web.zoom.us%2Fj%2F83819948747%3Fpwd%3DLClt2e5HXuSl45uEU7yNbY140pmDVa
 .1|target:_blank&#8221;][/vc_column][/vc_row]\nhttps://vp-uni.de/events/psy
 chologie-master-of-science/
URL:https://vp-uni.de/events/psychologie-master-of-science/
END:VEVENT
END:VCALENDAR